BEGIN:VCALENDAR
VERSION:2.0
PRODID:-//The Australian Shakespeare Company - ECPv4.9.11//NONSGML v1.0//EN
CALSCALE:GREGORIAN
METHOD:PUBLISH
X-WR-CALNAME:The Australian Shakespeare Company
X-ORIGINAL-URL:https://shakespeareaustralia.com.au
X-WR-CALDESC:Events for The Australian Shakespeare Company
BEGIN:VTIMEZONE
TZID:UTC
BEGIN:STANDARD
TZOFFSETFROM:+0000
TZOFFSETTO:+0000
TZNAME:UTC
DTSTART:20200101T000000
END:STANDARD
END:VTIMEZONE
BEGIN:VEVENT
DTSTART;VALUE=DATE:20200415
DTEND;VALUE=DATE:20200419
DTSTAMP:20200227T053057
CREATED:20191120T055729Z
LAST-MODIFIED:20191120T055729Z
UID:2045-1586908800-1587254399@shakespeareaustralia.com.au
SUMMARY:April: Magic & Mayhem Workshop - 7-11 year olds - Sydney
DESCRIPTION:With a focus on fun and live interactive creative development\, these holiday workshops enrich participants with new plays and characters at every turn.  \n
URL:https://shakespeareaustralia.com.au/event/april-magic-mayhem-workshop-7-11-year-olds-sydney/
CATEGORIES:Education
ORGANIZER;CN="Jo%20Bloom":MAILTO:jo@shakespeareaustralia.com.au
END:VEVENT
BEGIN:VEVENT
DTSTART;VALUE=DATE:20200420
DTEND;VALUE=DATE:20200426
DTSTAMP:20200227T053057
CREATED:20191120T055818Z
LAST-MODIFIED:20191120T055818Z
UID:2047-1587340800-1587859199@shakespeareaustralia.com.au
SUMMARY:April: Magic & Mayhem Workshop - 12-16 year olds - Sydney
DESCRIPTION:
URL:https://shakespeareaustralia.com.au/event/april-magic-mayhem-workshop-12-16-year-olds-sydney/
CATEGORIES:Education
ORGANIZER;CN="Jo%20Bloom":MAILTO:jo@shakespeareaustralia.com.au
END:VEVENT
BEGIN:VEVENT
DTSTART;VALUE=DATE:20200706
DTEND;VALUE=DATE:20200712
DTSTAMP:20200227T053057
CREATED:20191120T055946Z
LAST-MODIFIED:20191120T055946Z
UID:2048-1593993600-1594511999@shakespeareaustralia.com.au
SUMMARY:July: Clowns & Fools - 7-11 year olds - Sydney
DESCRIPTION:With a focus on fun and live interactive creative development\, these holiday workshops enrich participants with new plays and characters at every turn.  \n
URL:https://shakespeareaustralia.com.au/event/july-clowns-fools-7-11-year-olds-sydney/
CATEGORIES:Education
ORGANIZER;CN="Jo%20Bloom":MAILTO:jo@shakespeareaustralia.com.au
END:VEVENT
BEGIN:VEVENT
DTSTART;VALUE=DATE:20200928
DTEND;VALUE=DATE:20201004
DTSTAMP:20200227T053057
CREATED:20191120T060206Z
LAST-MODIFIED:20191120T060206Z
UID:2050-1601251200-1601769599@shakespeareaustralia.com.au
SUMMARY:September/October: Rogues & Royals - 7-11 year olds - Sydney
DESCRIPTION:With a focus on fun and live interactive creative development\, these holiday workshops enrich participants with new plays and characters at every turn.  \n
URL:https://shakespeareaustralia.com.au/event/september-october-rogues-royals-7-11-year-olds-sydney/
ORGANIZER;CN="Jo%20Bloom":MAILTO:jo@shakespeareaustralia.com.au
END:VEVENT
BEGIN:VEVENT
DTSTART;VALUE=DATE:20201006
DTEND;VALUE=DATE:20201011
DTSTAMP:20200227T053057
CREATED:20191120T060338Z
LAST-MODIFIED:20191120T060338Z
UID:2051-1601942400-1602374399@shakespeareaustralia.com.au
SUMMARY:September/October: Rogues & Royals - 12-16 year olds - Sydney
DESCRIPTION:With a focus on fun and live interactive creative development\, these holiday workshops enrich participants with new plays and characters at every turn.  \n
URL:https://shakespeareaustralia.com.au/event/september-october-rogues-royals-12-16-year-olds-sydney/
CATEGORIES:Education
ORGANIZER;CN="Jo%20Bloom":MAILTO:jo@shakespeareaustralia.com.au
END:VEVENT
END:VCALENDAR